BEGIN:VCALENDAR
PRODID:NingEventWidget-v1
VERSION:2.0
METHOD:PUBLISH
BEGIN:VEVENT
UID:6610746:Event:383659
DTSTAMP:20260424T085106Z
SUMMARY:Site Anniversary: RP Challenge Weekend
DESCRIPTION:On the weekend before the site anniversary, we're gonna ha
 ve an OOC day and a site challenge day.\r\nEveryone can come on and ch
 at OOC, we'll use the chance to get to know each other's characters an
 d get new threads. Everyone will be assigned a challenge for the weeke
 nd and take on some new threads and have fun. \r\nPost a happy gif of
  your character below if you intend to participate at some point in th
 e weekend!\n\nFor more information visit https://eternalcityrp.com/eve
 nts/site-anniversary-rp-challenge-weekend
DTSTART:20190914T120000Z
DTEND:20190915T230000Z
CATEGORIES:rp
LOCATION:Site
WEBSITE:
URL:
CONTACT:
ORGANIZER;CN="✓ Sariah Amelie Holloway ~Admin~":https://eternalcityr
 p.com/profile/Tria
ATTACH;FMTTYPE="image/jpeg":https://storage.ning.com/topology/rest/1.0
 /file/get/3473592696?profile=original
ATTENDEE;ROLE=REQ-PARTICIPANT;PARTSTAT=ACCEPTED;RSVP=TRUE;CN="✓ Mira
 e Stormwind":https://eternalcityrp.com/profile/FiguringItOut
ATTENDEE;ROLE=REQ-PARTICIPANT;PARTSTAT=ACCEPTED;RSVP=TRUE;CN="✓ Domi
 nic Howlett ~Mod~":https://eternalcityrp.com/profile/DominicHowlett
ATTENDEE;ROLE=REQ-PARTICIPANT;PARTSTAT=ACCEPTED;RSVP=TRUE;CN="✓ Madd
 ison Eliza Garcia":https://eternalcityrp.com/profile/MaddisonGarcia
ATTENDEE;ROLE=REQ-PARTICIPANT;PARTSTAT=ACCEPTED;RSVP=TRUE;CN="✓ Svet
 lana Vasilyev":https://eternalcityrp.com/profile/SV
ATTENDEE;ROLE=REQ-PARTICIPANT;PARTSTAT=ACCEPTED;RSVP=TRUE;CN="✓ Orio
 n Valkyrie ~Admin~":https://eternalcityrp.com/profile/Orion
ATTENDEE;ROLE=REQ-PARTICIPANT;PARTSTAT=ACCEPTED;RSVP=TRUE;CN="✓ Rona
 n Winters":https://eternalcityrp.com/profile/joediamond
ATTENDEE;ROLE=REQ-PARTICIPANT;PARTSTAT=ACCEPTED;RSVP=TRUE;CN="✓ Sapp
 hire Rizzoli":https://eternalcityrp.com/profile/ZoeyRizzoli
ATTENDEE;ROLE=REQ-PARTICIPANT;PARTSTAT=ACCEPTED;RSVP=TRUE;CN="✓ Huds
 on Luca Garcia":https://eternalcityrp.com/profile/AliceS
ATTENDEE;ROLE=REQ-PARTICIPANT;PARTSTAT=ACCEPTED;RSVP=TRUE;CN="✓ Arte
 mitra Astrid Bluemoon":https://eternalcityrp.com/profile/ArtemitraBlue
 moon
ATTENDEE;ROLE=REQ-PARTICIPANT;PARTSTAT=ACCEPTED;RSVP=TRUE;CN="✓ Sari
 ah Amelie Holloway ~Admin~":https://eternalcityrp.com/profile/Tria
ATTENDEE;ROLE=REQ-PARTICIPANT;PARTSTAT=TENTATIVE;RSVP=TRUE;CN="✓ Cla
 rissa Bradford ~Admin~":https://eternalcityrp.com/profile/CLB
ATTENDEE;ROLE=REQ-PARTICIPANT;PARTSTAT=TENTATIVE;RSVP=TRUE;CN="✓ Cla
 ra Carter":https://eternalcityrp.com/profile/RebekahvdWilt
ATTENDEE;ROLE=REQ-PARTICIPANT;PARTSTAT=TENTATIVE;RSVP=TRUE;CN="✓ Kat
 rina O'Sullivan":https://eternalcityrp.com/profile/KatrinaMidwife
ATTENDEE;ROLE=REQ-PARTICIPANT;PARTSTAT=TENTATIVE;RSVP=TRUE;CN="✓ Sio
 bhan Leslie ~Mod~":https://eternalcityrp.com/profile/SiobhanLeslie
END:VEVENT
END:VCALENDAR
