BEGIN:VCALENDAR
PRODID:NingEventWidget-v1
VERSION:2.0
METHOD:PUBLISH
BEGIN:VEVENT
UID:6610746:Event:362908
DTSTAMP:20260424T085021Z
SUMMARY:The Annual Spring Fling 2019
DESCRIPTION:\r\n“You can cut all the flowers but you cannot keep Spr
 ing from coming.”  ― Pablo Neruda\r\n\r\n\r\nAnd Spring has come
  ladies and gentleman, and with it, it's brought our much awaited year
 ly tradition.\r\nSo don your floral prints and flex those bright colou
 rs for the fifth Annual Spring Fling!\r\n\r\nAs per tradition, this ye
 ar too we will be crowning someone Spring King and Queen by the end of
  the night. To participate, all you have to do is comment your attire 
 below and take part in the Spring Fling! Voting will start as soon as 
 the event commences!\r\nSo get to posting!\r\n\r\nDate: 11th May, 2019
  - Saturday Dress Code: Bright Semi-Formal Attire Event Type: Party
  Venue: Evermore Woods Dates: Not mandatory but welcome Activities:
 There will be lively music and an open dance floor. Drinks will be se
 rved at the bar and at the end of the night, a bonfire will be lit, fo
 llowed by the announcement of the Spring King and Queen.\r\nStoryline 
 development and drama welcome. \r\nPlease comment your attire below 
 to participate!\r\n\r\n \n\nFor more information visit https://eterna
 lcityrp.com/events/the-annual-spring-fling-2019
DTSTART:20190511T190000Z
DTEND:20190512T000000Z
CATEGORIES:spring, fling
LOCATION:The Woods
WEBSITE:
URL:
CONTACT:
ORGANIZER;CN="✓ Cornelia Hael Bradford":https://eternalcityrp.com/pr
 ofile/Lia
ATTACH;FMTTYPE="image/jpeg":https://storage.ning.com/topology/rest/1.0
 /file/get/1741119480?profile=original
ATTENDEE;ROLE=REQ-PARTICIPANT;PARTSTAT=ACCEPTED;RSVP=TRUE;CN="✓ Wyat
 t Brookes":https://eternalcityrp.com/profile/WyattBrookes
ATTENDEE;ROLE=REQ-PARTICIPANT;PARTSTAT=ACCEPTED;RSVP=TRUE;CN="✓ Aniv
 ia Frostbourne ~Admin~":https://eternalcityrp.com/profile/IceQueen
ATTENDEE;ROLE=REQ-PARTICIPANT;PARTSTAT=ACCEPTED;RSVP=TRUE;CN="✓ Arte
 mitra Astrid Bluemoon":https://eternalcityrp.com/profile/ArtemitraBlue
 moon
ATTENDEE;ROLE=REQ-PARTICIPANT;PARTSTAT=ACCEPTED;RSVP=TRUE;CN="✓ Siob
 han Leslie ~Mod~":https://eternalcityrp.com/profile/SiobhanLeslie
ATTENDEE;ROLE=REQ-PARTICIPANT;PARTSTAT=ACCEPTED;RSVP=TRUE;CN="✓ Domi
 nic Howlett ~Mod~":https://eternalcityrp.com/profile/DominicHowlett
ATTENDEE;ROLE=REQ-PARTICIPANT;PARTSTAT=ACCEPTED;RSVP=TRUE;CN="✓ Clar
 issa Bradford ~Admin~":https://eternalcityrp.com/profile/CLB
ATTENDEE;ROLE=REQ-PARTICIPANT;PARTSTAT=ACCEPTED;RSVP=TRUE;CN="✓ Cale
 b Eli Segal ~Mod~":https://eternalcityrp.com/profile/CalebSegal
ATTENDEE;ROLE=REQ-PARTICIPANT;PARTSTAT=ACCEPTED;RSVP=TRUE;CN="✓ Corn
 elia Hael Bradford":https://eternalcityrp.com/profile/Lia
ATTENDEE;ROLE=REQ-PARTICIPANT;PARTSTAT=TENTATIVE;RSVP=TRUE;CN="✓ Ell
 e-Mae Vivienne Lovett":https://eternalcityrp.com/profile/Elle
ATTENDEE;ROLE=REQ-PARTICIPANT;PARTSTAT=TENTATIVE;RSVP=TRUE;CN="✓ Cla
 ra Carter":https://eternalcityrp.com/profile/RebekahvdWilt
ATTENDEE;ROLE=REQ-PARTICIPANT;PARTSTAT=TENTATIVE;RSVP=TRUE;CN="✓ Sap
 phire Rizzoli":https://eternalcityrp.com/profile/ZoeyRizzoli
END:VEVENT
END:VCALENDAR
